BEGIN:VCALENDAR
VERSION:2.0
PRODID:-//ChurchDev//Events//EN
CALSCALE:GREGORIAN
METHOD:PUBLISH
BEGIN:VEVENT
UID:9792-20260403@www.faithchristianoutreachcenter.org
SUMMARY:Holy Friday
DTSTART;VALUE=DATE:20260403
DTEND;VALUE=DATE:20260404
DESCRIPTION:Religious Significance\\nHoly Friday is observed as part of the three holiest days leading up to Resurrection Sunday. It commemorates Jesus Christ&#8217\;s passion\, his crucifixion\, and death\, emphasizing love\, sacrifice and redemption.\\n&nbsp\;\\n\\nhttps://www.faithchristianoutreachcenter.org/events/holy-friday/
LOCATION:533 W 5th Street Plainfield\, NJ 07060
URL:https://www.faithchristianoutreachcenter.org/events/holy-friday/
DTSTAMP:20260419T220349Z
END:VEVENT
END:VCALENDAR
