BEGIN:VCALENDAR
VERSION:2.0
PRODID:-//ChurchDev//Events//EN
CALSCALE:GREGORIAN
METHOD:PUBLISH
BEGIN:VEVENT
UID:9790-20260409@www.faithchristianoutreachcenter.org
SUMMARY:Women&#8217\;s Cabinet Meeting CC
DTSTART:20260409T233000Z
DTEND:20260410T003000Z
DESCRIPTION:https://www.faithchristianoutreachcenter.org/events/womens-cabinet-meeting-cc-50/
LOCATION:533 W 5th Street Plainfield\, NJ 07060
URL:https://www.faithchristianoutreachcenter.org/events/womens-cabinet-meeting-cc-50/
DTSTAMP:20260419T220344Z
END:VEVENT
END:VCALENDAR
