BEGIN:VCALENDAR
VERSION:2.0
PRODID:-//ChurchDev//Events//EN
CALSCALE:GREGORIAN
METHOD:PUBLISH
BEGIN:VEVENT
UID:9789-20260422@www.faithchristianoutreachcenter.org
SUMMARY:Earth Day
DTSTART;VALUE=DATE:20260422
DTEND;VALUE=DATE:20260423
DESCRIPTION:Earth Day includes community cleanups\, teach-ins\, peaceful demonstrations\, tree planting\, voter registration\, town hall meetings\, community organizing — every action strengthens the movement. Add your event to the map and show the power of collective action.\\n\\nhttps://www.faithchristianoutreachcenter.org/events/earth-day-2/
LOCATION:533 W 5th Street Plainfield\, NJ 07060
URL:https://www.faithchristianoutreachcenter.org/events/earth-day-2/
DTSTAMP:20260419T220349Z
END:VEVENT
END:VCALENDAR
