BEGIN:VCALENDAR
VERSION:2.0
PRODID:-//ChurchDev//Events//EN
CALSCALE:GREGORIAN
METHOD:PUBLISH
BEGIN:VEVENT
UID:9787-20260401@www.faithchristianoutreachcenter.org
SUMMARY:Life in the Word
DTSTART:20260401T233000Z
DTEND:20260402T003000Z
DESCRIPTION:Come\, grow with us on our Facebook page or YouTube channel for Life in The Word with Pastor Robinson.  Immediately following the lesson\, you are welcomed to join us for the &#8216\;After Chat&#8217\; @ (908) 224-3090 with any questions or comments.\\n\\nhttps://www.faithchristianoutreachcenter.org/events/life-in-the-word-27/
LOCATION:533 W 5th Street Plainfield\, NJ 07060
URL:https://www.faithchristianoutreachcenter.org/events/life-in-the-word-27/
DTSTAMP:20260419T220349Z
END:VEVENT
END:VCALENDAR
