BEGIN:VCALENDAR
VERSION:2.0
PRODID:-//ChurchDev//Events//EN
CALSCALE:GREGORIAN
METHOD:PUBLISH
BEGIN:VEVENT
UID:9786-20260408@www.faithchristianoutreachcenter.org
SUMMARY:Elders&#8217\; Meeting CC
DTSTART:20260408T220000Z
DTEND:20260408T230000Z
DESCRIPTION:https://www.faithchristianoutreachcenter.org/events/elders-meeting-cc-14/
LOCATION:533 W 5th Street Plainfield\, NJ 07060
URL:https://www.faithchristianoutreachcenter.org/events/elders-meeting-cc-14/
DTSTAMP:20260419T220347Z
END:VEVENT
END:VCALENDAR
