BEGIN:VCALENDAR
VERSION:2.0
PRODID:-//ChurchDev//Events//EN
CALSCALE:GREGORIAN
METHOD:PUBLISH
BEGIN:VEVENT
UID:9785-20260401@www.faithchristianoutreachcenter.org
SUMMARY:Online Prayer
DTSTART:20260401T230000Z
DTEND:20260401T232500Z
DESCRIPTION:If you know the power of prayer\, please join us as we take prayer requests before the Lord.  You can also place your prayer requests on the Prayer Wall found here on the website&#8217\;s Home Page under Prayer Requests.\\n\\nhttps://www.faithchristianoutreachcenter.org/events/online-prayer-80/
LOCATION:533 W 5th Street Plainfield\, NJ 07060
URL:https://www.faithchristianoutreachcenter.org/events/online-prayer-80/
DTSTAMP:20260419T220349Z
END:VEVENT
END:VCALENDAR
