BEGIN:VCALENDAR
VERSION:2.0
PRODID:-//ChurchDev//Events//EN
CALSCALE:GREGORIAN
METHOD:PUBLISH
BEGIN:VEVENT
UID:9784-20260407@www.faithchristianoutreachcenter.org
SUMMARY:Children&#8217\;s Ministry Meeting CC
DTSTART:20260407T233000Z
DTEND:20260408T003000Z
DESCRIPTION:https://www.faithchristianoutreachcenter.org/events/childrens-ministry-meeting-cc-17/
LOCATION:533 W 5th Street Plainfield\, NJ 07060
URL:https://www.faithchristianoutreachcenter.org/events/childrens-ministry-meeting-cc-17/
DTSTAMP:20260419T220350Z
END:VEVENT
END:VCALENDAR
