BEGIN:VCALENDAR
VERSION:2.0
PRODID:-//ChurchDev//Events//EN
CALSCALE:GREGORIAN
METHOD:PUBLISH
BEGIN:VEVENT
UID:9783-20260407@www.faithchristianoutreachcenter.org
SUMMARY:Online Prayer
DTSTART:20260407T103000Z
DTEND:20260407T110000Z
DESCRIPTION:Join us on the Prayer Line at (908) 224-3090 for this time of prayer.  You can also place your prayer request on the Prayer Wall found here on our Website&#8217\;s Home Page.\\n\\nhttps://www.faithchristianoutreachcenter.org/events/online-prayer-79/
LOCATION:533 W 5th Street Plainfield\, NJ 07060
URL:https://www.faithchristianoutreachcenter.org/events/online-prayer-79/
DTSTAMP:20260419T220350Z
END:VEVENT
END:VCALENDAR
