BEGIN:VCALENDAR
VERSION:2.0
PRODID:-//ChurchDev//Events//EN
CALSCALE:GREGORIAN
METHOD:PUBLISH
BEGIN:VEVENT
UID:9781-20260428@www.faithchristianoutreachcenter.org
SUMMARY:Deacon Ministry Meeting CC
DTSTART:20260428T230000Z
DTEND:20260429T000000Z
DESCRIPTION:https://www.faithchristianoutreachcenter.org/events/deacon-ministry-meeting-cc-53/
LOCATION:533 W 5th Street Plainfield\, NJ 07060
URL:https://www.faithchristianoutreachcenter.org/events/deacon-ministry-meeting-cc-53/
DTSTAMP:20260419T220348Z
END:VEVENT
END:VCALENDAR
