BEGIN:VCALENDAR
VERSION:2.0
PRODID:-//ChurchDev//Events//EN
CALSCALE:GREGORIAN
METHOD:PUBLISH
BEGIN:VEVENT
UID:9780-20260426@www.faithchristianoutreachcenter.org
SUMMARY:Teen In-Person Ministry
DTSTART:20260426T150000Z
DTEND:20260426T160000Z
DESCRIPTION:All junior high and high school students are invited to join in this time of learning.\\n\\nhttps://www.faithchristianoutreachcenter.org/events/teen-in-person-ministry-16/
LOCATION:533 W 5th Street Plainfield\, NJ 07060
URL:https://www.faithchristianoutreachcenter.org/events/teen-in-person-ministry-16/
DTSTAMP:20260419T220349Z
END:VEVENT
END:VCALENDAR
