BEGIN:VCALENDAR
VERSION:2.0
PRODID:-//ChurchDev//Events//EN
CALSCALE:GREGORIAN
METHOD:PUBLISH
BEGIN:VEVENT
UID:9779-20260405@www.faithchristianoutreachcenter.org
SUMMARY:Children&#8217\;s In-Person Ministry
DTSTART:20260405T150000Z
DTEND:20260405T160000Z
DESCRIPTION:All elementary school students should join in this time of study for your age group.\\n\\nhttps://www.faithchristianoutreachcenter.org/events/childrens-in-person-ministry-21/
LOCATION:533 W 5th Street Plainfield\, NJ 07060
URL:https://www.faithchristianoutreachcenter.org/events/childrens-in-person-ministry-21/
DTSTAMP:20260419T220350Z
END:VEVENT
END:VCALENDAR
