BEGIN:VCALENDAR
VERSION:2.0
PRODID:-//ChurchDev//Events//EN
CALSCALE:GREGORIAN
METHOD:PUBLISH
BEGIN:VEVENT
UID:9778-20260427@www.faithchristianoutreachcenter.org
SUMMARY:Executive Board Meeting CC
DTSTART:20260427T223000Z
DTEND:20260427T233000Z
DESCRIPTION:https://www.faithchristianoutreachcenter.org/events/executive-board-meeting-cc-48/
LOCATION:533 W 5th Street Plainfield\, NJ 07060
URL:https://www.faithchristianoutreachcenter.org/events/executive-board-meeting-cc-48/
DTSTAMP:20260419T220347Z
END:VEVENT
END:VCALENDAR
