BEGIN:VCALENDAR
VERSION:2.0
PRODID:-//ChurchDev//Events//EN
CALSCALE:GREGORIAN
METHOD:PUBLISH
BEGIN:VEVENT
UID:9777-20260420@www.faithchristianoutreachcenter.org
SUMMARY:Prayer Team Meeting CC
DTSTART:20260420T230000Z
DTEND:20260421T000000Z
DESCRIPTION:https://www.faithchristianoutreachcenter.org/events/prayer-team-meeting-cc-55/
LOCATION:533 W 5th Street Plainfield\, NJ 07060
URL:https://www.faithchristianoutreachcenter.org/events/prayer-team-meeting-cc-55/
DTSTAMP:20260419T220345Z
END:VEVENT
END:VCALENDAR
