BEGIN:VCALENDAR
VERSION:2.0
PRODID:-//ChurchDev//Events//EN
CALSCALE:GREGORIAN
METHOD:PUBLISH
BEGIN:VEVENT
UID:9776-20260420@www.faithchristianoutreachcenter.org
SUMMARY:Household Prayer Call-In
DTSTART:20260420T103000Z
DTEND:20260420T110000Z
DESCRIPTION:Join us as Pastor Robinson prays for your household.\\n\\nhttps://www.faithchristianoutreachcenter.org/events/household-prayer-call-in-19/
LOCATION:533 W 5th Street Plainfield\, NJ 07060
URL:https://www.faithchristianoutreachcenter.org/events/household-prayer-call-in-19/
DTSTAMP:20260419T220345Z
END:VEVENT
END:VCALENDAR
