BEGIN:VCALENDAR
VERSION:2.0
PRODID:-//ChurchDev//Events//EN
CALSCALE:GREGORIAN
METHOD:PUBLISH
BEGIN:VEVENT
UID:9775-20260419@www.faithchristianoutreachcenter.org
SUMMARY:Corporate Prayer Gathering
DTSTART:20260419T130000Z
DTEND:20260419T134500Z
DESCRIPTION:All are encouraged to meet us at the Altar for Corporate Prayer.\\n\\nhttps://www.faithchristianoutreachcenter.org/events/corporate-prayer-gathering-20/
LOCATION:533 W 5th Street Plainfield\, NJ 07060
URL:https://www.faithchristianoutreachcenter.org/events/corporate-prayer-gathering-20/
DTSTAMP:20260419T220349Z
END:VEVENT
END:VCALENDAR
