BEGIN:VCALENDAR
VERSION:2.0
PRODID:-//ChurchDev//Events//EN
CALSCALE:GREGORIAN
METHOD:PUBLISH
BEGIN:VEVENT
UID:9772-20260421@www.faithchristianoutreachcenter.org
SUMMARY:Women&#8217\;s Life Group #1 &#8211\; Zoom
DTSTART:20260421T230000Z
DTEND:20260422T000000Z
DESCRIPTION:All women involved in our Women&#8217\;s Life Group #1 with Lady Caroline Robinson are asked to be present for this session.  Invite a friend as well.\\n\\nhttps://www.faithchristianoutreachcenter.org/events/womens-life-group-1-zoom-16/
LOCATION:533 W 5th Street Plainfield\, NJ 07060
URL:https://www.faithchristianoutreachcenter.org/events/womens-life-group-1-zoom-16/
DTSTAMP:20260419T220347Z
END:VEVENT
END:VCALENDAR
