BEGIN:VCALENDAR
VERSION:2.0
PRODID:-//ChurchDev//Events//EN
CALSCALE:GREGORIAN
METHOD:PUBLISH
BEGIN:VEVENT
UID:9771-20260416@www.faithchristianoutreachcenter.org
SUMMARY:Women&#8217\;s Life Group #2 &#8211\; Zoom
DTSTART:20260416T230000Z
DTEND:20260417T000000Z
DESCRIPTION:All women involved in our Women&#8217\;s Life Group #2 with Elder Cheyenne Martin are asked to be present for this session.  Invite a friend as well.\\n\\nhttps://www.faithchristianoutreachcenter.org/events/womens-life-group-2-zoom-17/
LOCATION:533 W 5th Street Plainfield\, NJ 07060
URL:https://www.faithchristianoutreachcenter.org/events/womens-life-group-2-zoom-17/
DTSTAMP:20260419T220347Z
END:VEVENT
END:VCALENDAR
