BEGIN:VCALENDAR
VERSION:2.0
PRODID:-//ChurchDev//Events//EN
CALSCALE:GREGORIAN
METHOD:PUBLISH
BEGIN:VEVENT
UID:9770-20260419@www.faithchristianoutreachcenter.org
SUMMARY:Men&#8217\;s Life Group &#8211\; Zoom
DTSTART:20260419T220000Z
DTEND:20260419T230000Z
DESCRIPTION:All men are asked to join Pastor Robinson for your Life Group session on our Zoom platform. Be sure to invite other men to join as well.\\n\\nhttps://www.faithchristianoutreachcenter.org/events/mens-life-group-zoom-6/
LOCATION:533 W 5th Street Plainfield\, NJ 07060
URL:https://www.faithchristianoutreachcenter.org/events/mens-life-group-zoom-6/
DTSTAMP:20260419T220348Z
END:VEVENT
END:VCALENDAR
