BEGIN:VCALENDAR
VERSION:2.0
PRODID:-//ChurchDev//Events//EN
CALSCALE:GREGORIAN
METHOD:PUBLISH
BEGIN:VEVENT
UID:9769-20260415@www.faithchristianoutreachcenter.org
SUMMARY:Federal Tax Filing Due Date
DTSTART;VALUE=DATE:20260415
DTEND;VALUE=DATE:20260416
DESCRIPTION:Remember to file your personal federal tax return\, pay any tax owed or request an extension to file by Monday\, April 15th.\\n\\nhttps://www.faithchristianoutreachcenter.org/events/federal-tax-filing-due-date/
LOCATION:533 W 5th Street Plainfield\, NJ 07060
URL:https://www.faithchristianoutreachcenter.org/events/federal-tax-filing-due-date/
DTSTAMP:20260419T220348Z
END:VEVENT
END:VCALENDAR
