BEGIN:VCALENDAR
VERSION:2.0
PRODID:-//ChurchDev//Events//EN
CALSCALE:GREGORIAN
METHOD:PUBLISH
BEGIN:VEVENT
UID:9767-20260426@www.faithchristianoutreachcenter.org
SUMMARY:75th Church Anniversary Luncheon
DTSTART:20260426T170000Z
DTEND:20260426T180000Z
DESCRIPTION:Join us in celebrating our 75th Anniversary with a luncheon at the Westwood of Garwood.  The cost is $60.00 per person with the balance due April 12th.  See Mrs. Patricia Toliver with your ticket cost.\\n\\nhttps://www.faithchristianoutreachcenter.org/events/75th-church-anniversary-luncheon/
LOCATION:533 W 5th Street Plainfield\, NJ 07060
URL:https://www.faithchristianoutreachcenter.org/events/75th-church-anniversary-luncheon/
DTSTAMP:20260419T220348Z
END:VEVENT
END:VCALENDAR
