BEGIN:VCALENDAR
VERSION:2.0
PRODID:-//ChurchDev//Events//EN
CALSCALE:GREGORIAN
METHOD:PUBLISH
BEGIN:VEVENT
UID:9765-20260426@www.faithchristianoutreachcenter.org
SUMMARY:75th Church Anniversary Celebration
DTSTART:20260426T140000Z
DTEND:20260426T150000Z
DESCRIPTION:Join us in Worship as we celebrate our 75th Church Anniversary!\\n\\nhttps://www.faithchristianoutreachcenter.org/events/75th-church-anniversary-celebration/
LOCATION:533 W 5th Street Plainfield\, NJ 07060
URL:https://www.faithchristianoutreachcenter.org/events/75th-church-anniversary-celebration/
DTSTAMP:20260419T220349Z
END:VEVENT
END:VCALENDAR
