BEGIN:VCALENDAR
VERSION:2.0
PRODID:-//ChurchDev//Events//EN
CALSCALE:GREGORIAN
METHOD:PUBLISH
BEGIN:VEVENT
UID:9763-20260404@www.faithchristianoutreachcenter.org
SUMMARY:Beauty for Ashes GriefShare Support &#8211\; Zoom
DTSTART:20260404T130000Z
DTEND:20260404T143000Z
DESCRIPTION:If you are anyone you know is dealing with grief you are invited to join these sessions for support and encouragement.\\n\\nhttps://www.faithchristianoutreachcenter.org/events/beauty-for-ashes-griefshare-support-zoom-7/
LOCATION:533 W 5th Street Plainfield\, NJ 07060
URL:https://www.faithchristianoutreachcenter.org/events/beauty-for-ashes-griefshare-support-zoom-7/
DTSTAMP:20260419T220347Z
END:VEVENT
END:VCALENDAR
