BEGIN:VCALENDAR
VERSION:2.0
PRODID:-//ChurchDev//Events//EN
CALSCALE:GREGORIAN
METHOD:PUBLISH
BEGIN:VEVENT
UID:9762-20260401@www.faithchristianoutreachcenter.org
SUMMARY:April Fitness Challenge
DTSTART;VALUE=DATE:20260401
DTEND;VALUE=DATE:20260402
DESCRIPTION:April is Move More Month\\nEveryone is encouraged to include 30 minutes of exercise daily to improve their health.  Please visit our website (Resource Tab) for ways you can improve your physical health by moving your body.\\n\\nhttps://www.faithchristianoutreachcenter.org/events/april-fitness-challenge-2/
LOCATION:533 W 5th Street Plainfield\, NJ 07060
URL:https://www.faithchristianoutreachcenter.org/events/april-fitness-challenge-2/
DTSTAMP:20260419T220347Z
END:VEVENT
END:VCALENDAR
