BEGIN:VCALENDAR
VERSION:2.0
PRODID:-//ChurchDev//Events//EN
CALSCALE:GREGORIAN
METHOD:PUBLISH
BEGIN:VEVENT
UID:9761-20260430@www.faithchristianoutreachcenter.org
SUMMARY:Children&#8217\;s Bible Lesson
DTSTART;VALUE=DATE:20260430
DTEND;VALUE=DATE:20260501
DESCRIPTION:Topic: Guard Your Heart with Gratitude\\nAll elementary school students are asked to complete their assignments and turn them into Mrs. Carletter Robinson on or before April 30th.\\n\\nhttps://www.faithchristianoutreachcenter.org/events/childrens-bible-lesson-7/
LOCATION:533 W 5th Street Plainfield\, NJ 07060
URL:https://www.faithchristianoutreachcenter.org/events/childrens-bible-lesson-7/
DTSTAMP:20260419T220348Z
END:VEVENT
END:VCALENDAR
