BEGIN:VCALENDAR
VERSION:2.0
PRODID:-//ChurchDev//Events//EN
CALSCALE:GREGORIAN
METHOD:PUBLISH
BEGIN:VEVENT
UID:9760-20260430@www.faithchristianoutreachcenter.org
SUMMARY:April Teen Assignment
DTSTART;VALUE=DATE:20260430
DTEND;VALUE=DATE:20260501
DESCRIPTION:Lesson Topic:  Anxiety\\nPlease visit our church&#8217\;s website (Resource Tab) for the lesson.  The assignment is due on or before Thursday\, April 30th.\\n\\nhttps://www.faithchristianoutreachcenter.org/events/april-teen-assignment-3/
LOCATION:533 W 5th Street Plainfield\, NJ 07060
URL:https://www.faithchristianoutreachcenter.org/events/april-teen-assignment-3/
DTSTAMP:20260419T220348Z
END:VEVENT
END:VCALENDAR
