BEGIN:VCALENDAR
VERSION:2.0
PRODID:-//ChurchDev//Events//EN
CALSCALE:GREGORIAN
METHOD:PUBLISH
BEGIN:VEVENT
UID:9759-20260401@www.faithchristianoutreachcenter.org
SUMMARY:30 Day Prayer Challenge
DTSTART;VALUE=DATE:20260401
DTEND;VALUE=DATE:20260402
DESCRIPTION:Join us as we pray for various needs and concerns that affect our everyday lives.  Visit our website&#8217\;s (Resource Tab) for the daily prayer prompts.\\n\\nhttps://www.faithchristianoutreachcenter.org/events/30-day-prayer-challenge-4/
LOCATION:533 W 5th Street Plainfield\, NJ 07060
URL:https://www.faithchristianoutreachcenter.org/events/30-day-prayer-challenge-4/
DTSTAMP:20260419T220346Z
END:VEVENT
END:VCALENDAR
