BEGIN:VCALENDAR
VERSION:2.0
PRODID:-//ChurchDev//Events//EN
CALSCALE:GREGORIAN
METHOD:PUBLISH
BEGIN:VEVENT
UID:9758-20260401@www.faithchristianoutreachcenter.org
SUMMARY:30 Day Bible Reading Challenge
DTSTART;VALUE=DATE:20260401
DTEND;VALUE=DATE:20260402
DESCRIPTION:Theme:  Trusting God\\nJoin us as we read Bible passages to grow our trust in God&#8217\;s will\, His way\, and His timing for our lives.  Visit our website (Resource Tab) for the 30-Day Reading Schedule.\\n\\nhttps://www.faithchristianoutreachcenter.org/events/30-day-prayer-challenge-3/
LOCATION:533 W 5th Street Plainfield\, NJ 07060
URL:https://www.faithchristianoutreachcenter.org/events/30-day-prayer-challenge-3/
DTSTAMP:20260419T220346Z
END:VEVENT
END:VCALENDAR
