BEGIN:VCALENDAR
VERSION:2.0
PRODID:-//ChurchDev//Events//EN
CALSCALE:GREGORIAN
METHOD:PUBLISH
BEGIN:VEVENT
UID:9757-20260412@www.faithchristianoutreachcenter.org
SUMMARY:Morning Worship
DTSTART:20260412T140000Z
DTEND:20260412T150000Z
DESCRIPTION:Join us in Worship each Sunday for in person Worship.  You can also watch us LIVE on our YouTube Channel or Facebook page.\\n\\nhttps://www.faithchristianoutreachcenter.org/events/morning-worship-58/
LOCATION:533 W 5th Street Plainfield\, NJ 07060
URL:https://www.faithchristianoutreachcenter.org/events/morning-worship-58/
DTSTAMP:20260419T220346Z
END:VEVENT
END:VCALENDAR
