BEGIN:VCALENDAR
VERSION:2.0
PRODID:-//ChurchDev//Events//EN
CALSCALE:GREGORIAN
METHOD:PUBLISH
BEGIN:VEVENT
UID:9756-20260405@www.faithchristianoutreachcenter.org
SUMMARY:Resurrection Observance
DTSTART:20260405T140000Z
DTEND:20260405T150000Z
DESCRIPTION:Join us in Worship as we celebrate the Resurrection of our Lord Jesus Christ.\\n\\nhttps://www.faithchristianoutreachcenter.org/events/resurrection-observance-4/
LOCATION:533 W 5th Street Plainfield\, NJ 07060
URL:https://www.faithchristianoutreachcenter.org/events/resurrection-observance-4/
DTSTAMP:20260419T220345Z
END:VEVENT
END:VCALENDAR
